BEGIN:VCALENDAR
VERSION:2.0
PRODID:-//eventon.com NONSGML v1.0//EN
CALSCALE:GREGORIAN
METHOD:PUBLISH
BEGIN:VEVENT
UID:69e9da7731fd4
DTSTAMP:20260423T083815Z
DTSTART:20260104
DTEND:20260105
LOCATION:
SUMMARY:Winterwanderung
DESCRIPTION:
URL:https://www.pfoerring.de/blog/events/winterwanderung/
END:VEVENT
END:VCALENDAR