BEGIN:VCALENDAR
VERSION:2.0
PRODID:-//eventon.com NONSGML v1.0//EN
CALSCALE:GREGORIAN
METHOD:PUBLISH
BEGIN:VEVENT
UID:69e68cabe7de1
DTSTAMP:20260420T202931Z
DTSTART:20251231T160000Z
DTEND:20251231T225900Z
LOCATION:
SUMMARY:Jahresschlussgottesdienst
DESCRIPTION:
URL:https://www.pfoerring.de/blog/events/jahresschlussgottesdienst/
END:VEVENT
END:VCALENDAR