BEGIN:VCALENDAR
VERSION:2.0
PRODID:-//eventon.com NONSGML v1.0//EN
CALSCALE:GREGORIAN
METHOD:PUBLISH
BEGIN:VEVENT
UID:69e4d53fe6211
DTSTAMP:20260419T131439Z
DTSTART:20251214
DTEND:20251215
LOCATION:
SUMMARY:3. Advent
DESCRIPTION:
URL:https://www.pfoerring.de/blog/events/3-advent/
END:VEVENT
END:VCALENDAR