BEGIN:VCALENDAR
VERSION:2.0
PRODID:-//eventon.com NONSGML v1.0//EN
CALSCALE:GREGORIAN
METHOD:PUBLISH
BEGIN:VEVENT
UID:69e73bcc9b2dc
DTSTAMP:20260421T085644Z
DTSTART:20251206
DTEND:20251207
LOCATION:Pfarrheim Pförring
SUMMARY:Kolping-Gedenken
DESCRIPTION:
URL:https://www.pfoerring.de/blog/events/kolping-gedenken/
END:VEVENT
END:VCALENDAR