BEGIN:VCALENDAR
VERSION:2.0
PRODID:-//eventon.com NONSGML v1.0//EN
CALSCALE:GREGORIAN
METHOD:PUBLISH
BEGIN:VEVENT
UID:69e9effb154c4
DTSTAMP:20260423T101003Z
DTSTART:20251115T170000Z
DTEND:20251115T225900Z
LOCATION:
SUMMARY:Kriegerjahrtag in Lobsing
DESCRIPTION:
URL:https://www.pfoerring.de/blog/events/kriegerjahrtag-in-lobsing/
END:VEVENT
END:VCALENDAR