BEGIN:VCALENDAR
VERSION:2.0
PRODID:-//eventon.com NONSGML v1.0//EN
CALSCALE:GREGORIAN
METHOD:PUBLISH
BEGIN:VEVENT
UID:69e4fb3f138e9
DTSTAMP:20260419T155647Z
DTSTART:20251101T133000Z
DTEND:20251101T225900Z
LOCATION:
SUMMARY:Gedenkgottesdienst
DESCRIPTION:anschließend Gräbersegnung in Pförring
URL:https://www.pfoerring.de/blog/events/gedenkgottesdienst/
END:VEVENT
END:VCALENDAR