BEGIN:VCALENDAR
VERSION:2.0
PRODID:-//eventon.com NONSGML v1.0//EN
CALSCALE:GREGORIAN
METHOD:PUBLISH
BEGIN:VEVENT
UID:69e70492d3a43
DTSTAMP:20260421T050106Z
DTSTART:20250720T063000Z
DTEND:20250720T215900Z
LOCATION:
SUMMARY:Patrozinium in Forchheim
DESCRIPTION:
URL:https://www.pfoerring.de/blog/events/patrozinium-in-forchheim/
END:VEVENT
END:VCALENDAR