BEGIN:VCALENDAR
VERSION:2.0
PRODID:-//eventon.com NONSGML v1.0//EN
CALSCALE:GREGORIAN
METHOD:PUBLISH
BEGIN:VEVENT
UID:69e78509e72d2
DTSTAMP:20260421T140913Z
DTSTART:20250614
DTEND:20250615
LOCATION:
SUMMARY:70-jähriges Gründungsjubiläum Kath. Frauenbund
DESCRIPTION:
URL:https://www.pfoerring.de/blog/events/70-jaehriges-gruendungsjubilaeum-kath-frauenbund/
END:VEVENT
END:VCALENDAR