BEGIN:VCALENDAR
VERSION:2.0
PRODID:-//eventon.com NONSGML v1.0//EN
CALSCALE:GREGORIAN
METHOD:PUBLISH
BEGIN:VEVENT
UID:69eb722826352
DTSTAMP:20260424T133744Z
DTSTART:20250601
DTEND:20250602
LOCATION:Ungergarten
SUMMARY:Fischerfest
DESCRIPTION:
URL:https://www.pfoerring.de/blog/events/fischerfest-2/
END:VEVENT
END:VCALENDAR