BEGIN:VCALENDAR
VERSION:2.0
PRODID:-//eventon.com NONSGML v1.0//EN
CALSCALE:GREGORIAN
METHOD:PUBLISH
BEGIN:VEVENT
UID:69e747b1eaa6f
DTSTAMP:20260421T094729Z
DTSTART:20250529
DTEND:20250530
LOCATION:
SUMMARY:Christi Himmelfahrt
DESCRIPTION:
URL:https://www.pfoerring.de/blog/events/christi-himmelfahrt/
END:VEVENT
END:VCALENDAR