BEGIN:VCALENDAR
VERSION:2.0
PRODID:-//eventon.com NONSGML v1.0//EN
CALSCALE:GREGORIAN
METHOD:PUBLISH
BEGIN:VEVENT
UID:69e887fff2f1d
DTSTAMP:20260422T083407Z
DTSTART:20250421T173000Z
DTEND:20250421T215900Z
LOCATION:Pfarrheim Pförring
SUMMARY:Theatervorstellung
DESCRIPTION:
URL:https://www.pfoerring.de/blog/events/theatervorstellung-6/
END:VEVENT
END:VCALENDAR