BEGIN:VCALENDAR
VERSION:2.0
PRODID:-//eventon.com NONSGML v1.0//EN
CALSCALE:GREGORIAN
METHOD:PUBLISH
BEGIN:VEVENT
UID:69e9355578c9b
DTSTAMP:20260422T205341Z
DTSTART:20250427
DTEND:20250428
LOCATION:
SUMMARY:Anfischen der Jugend
DESCRIPTION:
URL:https://www.pfoerring.de/blog/events/anfischen-der-jugend/
END:VEVENT
END:VCALENDAR