BEGIN:VCALENDAR
VERSION:2.0
PRODID:-//eventon.com NONSGML v1.0//EN
CALSCALE:GREGORIAN
METHOD:PUBLISH
BEGIN:VEVENT
UID:69e6ffa029bb4
DTSTAMP:20260421T044000Z
DTSTART:20250426T173000Z
DTEND:20250426T215900Z
LOCATION:Pfarrheim Pförring
SUMMARY:Theatervorstellung
DESCRIPTION:
URL:https://www.pfoerring.de/blog/events/theatervorstellung-5/
END:VEVENT
END:VCALENDAR