BEGIN:VCALENDAR
VERSION:2.0
PRODID:-//eventon.com NONSGML v1.0//EN
CALSCALE:GREGORIAN
METHOD:PUBLISH
BEGIN:VEVENT
UID:69ea86f4b3abe
DTSTAMP:20260423T205412Z
DTSTART:20250328T180000Z
DTEND:20250328T225900Z
LOCATION:Gasthaus Grimm
SUMMARY:Jahreshauptversammlung
DESCRIPTION:
URL:https://www.pfoerring.de/blog/events/jahreshauptversammlung-3/
END:VEVENT
END:VCALENDAR