BEGIN:VCALENDAR
VERSION:2.0
PRODID:-//eventon.com NONSGML v1.0//EN
CALSCALE:GREGORIAN
METHOD:PUBLISH
BEGIN:VEVENT
UID:69e6049c4e359
DTSTAMP:20260420T104900Z
DTSTART:20250315T180000Z
DTEND:20250315T225900Z
LOCATION:Wackersteiner Straße
SUMMARY:Schnittkurs
DESCRIPTION:
URL:https://www.pfoerring.de/blog/events/schnittkurs/
END:VEVENT
END:VCALENDAR